BEGIN:VCALENDAR
VERSION:2.0
PRODID:Events Booking
BEGIN:VEVENT
UID:69e5dc6578130
SUMMARY:Triangolare Amichevole Lonigo
DESCRIPTION:Inaugurazione del Palazzetto del Comune di Lonigo
 ore 10:00 -
  Vicenza Bergamoore 13:00 - Bergamo Parmaore 16:00 - Parma Vicenza
LOCATION:Lonigo\, 36045 Veneto\, Italia
DTSTART:20250412T080000Z
DTSTAMP:20250409T084638Z
ORGANIZER;CN=Fipic:MAILTO:noreply@federipic.it
GEO:45.378733;11.390801
X-APPLE-STRUCTURED-LOCATION;VALUE=URI;X-ADDRESS=Lonigo\, 36045 Veneto\, Ita
 lia;X-APPLE-RADIUS=72;X-TITLE=Lonigo - Centro Polifunzionale:45.378733;11.
 390801
END:VEVENT
END:VCALENDAR