BEGIN:VCALENDAR
VERSION:2.0
PRODID:Events Booking
BEGIN:VEVENT
UID:69e91968e537b
SUMMARY:Torneo LAUMAS
DESCRIPTION:Triangolare tra:&nbsp\;GIOCO PARMA\, HS VARESE\, OLYMPIC Verona
 .
 Organizzatrice: POL. GIOCO PARMA
 Orari:
 11:00 | GIOCO PARMA vs OLY
 MPIC Verona14:30 | HS VARESE vs OLYMPIC Verona16:30 | GIOCO PARMA vs HS VA
 RESE
LOCATION:Scuola Secondaria primo grado \"Salvo Acquisto\"\, Via Monsignor N
 estore Pelicelli\, Cinghio\, Montanara\, Parma\, Emilia-Romagna\, 43134\, 
 Italia
DTSTART:20241110T100000Z
DTSTAMP:20241104T073523Z
ORGANIZER;CN=Fipic:MAILTO:noreply@federipic.it
GEO:44.778804;10.316838
X-APPLE-STRUCTURED-LOCATION;VALUE=URI;X-ADDRESS=Scuola Secondaria primo gra
 do \"Salvo Acquisto\"\, Via Monsignor Nestore Pelicelli\, Cinghio\, Montan
 ara\, Parma\, Emilia-Romagna\, 43134\, Italia;X-APPLE-RADIUS=72;X-TITLE=Is
 tituto Comprensivo Statale Salvo D'Acquisto:44.778804;10.316838
END:VEVENT
END:VCALENDAR