BEGIN:VCALENDAR
VERSION:2.0
PRODID:Events Booking
BEGIN:VEVENT
UID:69e57a6a83019
SUMMARY:3° TORNEO RIVIERA di RIMINI al PLAYGROUND di basket in carrozzina.
   Sport NO LIMITS
DESCRIPTION:Programma giornata:Ore 14:00 - 1° semifinale RIMINI Vs MONTECC
 HIO MAGGIOREOre 16:00 - 2° semifinale BOLOGNA Vs VERONA
 CENA a base di 
 Pesce ore 19:00 tutti insieme al bagno 26 TIKI
 Ore 20:30 - finalina 3/4 
 postoOre 22:30 - finale 1/2 posto
 Premiazioni
LOCATION:Lungomare Augusto Murri\, Rimini\, 47921 Emilia-Romagna\, Italia
DTSTART:20250531T120000Z
DTSTAMP:20250430T061012Z
ORGANIZER;CN=Fipic:MAILTO:noreply@federipic.it
GEO:44.067796;12.583758
X-APPLE-STRUCTURED-LOCATION;VALUE=URI;X-ADDRESS=Lungomare Augusto Murri\, R
 imini\, 47921 Emilia-Romagna\, Italia;X-APPLE-RADIUS=72;X-TITLE=Playground
 :44.067796;12.583758
END:VEVENT
END:VCALENDAR