BEGIN:VCALENDAR
VERSION:2.0
PRODID:Events Booking
BEGIN:VEVENT
UID:69e5a7bfa5dc1
SUMMARY:25° edizione “Lo Sport non ha Handicap” “Triangolare Basket 
 in Carrozzina”
DESCRIPTION:Sabato 17 maggio 2025
 ore 9.30: Delfini 2001 – Vigor Seregn
 oore 11.00: Vigor Seregno – Laumas Parmaore 14:00: Laumas Parma– Delfi
 ni 2001
 Domenica 18 maggio 2025
 Premiazione – Buffet presso Giardini
  a Mare
 infodisabilisml@gmail.com
LOCATION:Santa Margherita Ligure\, Genoa\, Liguria\, 16038\, Italia
DTSTART:20250517T073000Z
DTEND:20250517T220000Z
DTSTAMP:20250320T085029Z
ORGANIZER;CN=Fipic:MAILTO:noreply@federipic.it
GEO:44.33612;9.207085
X-APPLE-STRUCTURED-LOCATION;VALUE=URI;X-ADDRESS=Santa Margherita Ligure\, G
 enoa\, Liguria\, 16038\, Italia;X-APPLE-RADIUS=72;X-TITLE=Palasport Santa 
 Margherita Ligure:44.33612;9.207085
END:VEVENT
END:VCALENDAR